BEGIN:VCALENDAR
VERSION:2.0
PRODID:icalendar-ruby
CALSCALE:GREGORIAN
METHOD:PUBLISH
BEGIN:VEVENT
DTSTAMP:20260421T132332Z
UID:36-911342@refugechurchashland.com
DTSTART:20261101T153000Z
DTEND:20261101T170000Z
CLASS:PUBLIC
CREATED:20260421T062555
DESCRIPTION:Join us Sunday mornings at 9:30 AM for Sunday morning Bible stu
 dy. 
LAST-MODIFIED:20260421T062555
LOCATION:Downstairs | 406 Henry Clay Blvd\, Ashland\, MO 65010
SUMMARY:Sunday Morning Bible Study
URL;VALUE=URI:https://www.refugechurchashland.com/events/sunday-morning-bib
 le-study/2026-11-01
ATTACH;FILENAME=5.png;FMTTYPE=image/png:https://dq5pwpg1q8ru0.cloudfront.ne
 t/2023/11/25/20/53/47/81654d34-93fe-416a-824a-73f930f8235a/5.png
END:VEVENT
END:VCALENDAR
